BEGIN:VCALENDAR
VERSION:2.0
PRODID:-//Juffr. Jannie - ECPv6.15.20//NONSGML v1.0//EN
CALSCALE:GREGORIAN
METHOD:PUBLISH
X-WR-CALNAME:Juffr. Jannie
X-ORIGINAL-URL:https://www.juffrjannie.nl
X-WR-CALDESC:Evenementen voor Juffr. Jannie
REFRESH-INTERVAL;VALUE=DURATION:PT1H
X-Robots-Tag:noindex
X-PUBLISHED-TTL:PT1H
BEGIN:VTIMEZONE
TZID:Europe/Amsterdam
BEGIN:DAYLIGHT
TZOFFSETFROM:+0100
TZOFFSETTO:+0200
TZNAME:CEST
DTSTART:20250330T010000
END:DAYLIGHT
BEGIN:STANDARD
TZOFFSETFROM:+0200
TZOFFSETTO:+0100
TZNAME:CET
DTSTART:20251026T010000
END:STANDARD
BEGIN:DAYLIGHT
TZOFFSETFROM:+0100
TZOFFSETTO:+0200
TZNAME:CEST
DTSTART:20260329T010000
END:DAYLIGHT
BEGIN:STANDARD
TZOFFSETFROM:+0200
TZOFFSETTO:+0100
TZNAME:CET
DTSTART:20261025T010000
END:STANDARD
BEGIN:DAYLIGHT
TZOFFSETFROM:+0100
TZOFFSETTO:+0200
TZNAME:CEST
DTSTART:20270328T010000
END:DAYLIGHT
BEGIN:STANDARD
TZOFFSETFROM:+0200
TZOFFSETTO:+0100
TZNAME:CET
DTSTART:20271031T010000
END:STANDARD
END:VTIMEZONE
BEGIN:VEVENT
DTSTART;TZID=Europe/Amsterdam:20260427T193000
DTEND;TZID=Europe/Amsterdam:20260427T233000
DTSTAMP:20260424T175515
CREATED:20260309T104607Z
LAST-MODIFIED:20260309T104656Z
UID:2248-1777318200-1777332600@www.juffrjannie.nl
SUMMARY:Koningsdag 2026
DESCRIPTION:Koningsdag 2026 in Zwolle? Kom dan naar De Belgische Keizer waar Juffr. Jannie traditiegetrouw weer klaar staat om er een mooi oranje feestje van te maken. Gezelligheid\, sfeer en pure live muziek. Precies zoals Koningsdag bedoeld is. \nKoningsdag 2026 wordt gevierd op maandag 27 april.
URL:https://www.juffrjannie.nl/event/koningsdag-2026/
LOCATION:Podium bij Restaurant Café De Belgische Keizer\, Melkmarkt 58\, Zwolle\, Overijssel\, 8011 ME\, Nederland
ATTACH;FMTTYPE=image/jpeg:https://www.juffrjannie.nl/wp-content/uploads/2025/03/IMG_8706-scaled.jpg
END:VEVENT
END:VCALENDAR