BEGIN:VCALENDAR
VERSION:2.0
PRODID:-//Juffr. Jannie - ECPv6.15.20//NONSGML v1.0//EN
CALSCALE:GREGORIAN
METHOD:PUBLISH
X-WR-CALNAME:Juffr. Jannie
X-ORIGINAL-URL:https://www.juffrjannie.nl
X-WR-CALDESC:Evenementen voor Juffr. Jannie
REFRESH-INTERVAL;VALUE=DURATION:PT1H
X-Robots-Tag:noindex
X-PUBLISHED-TTL:PT1H
BEGIN:VTIMEZONE
TZID:Europe/Amsterdam
BEGIN:DAYLIGHT
TZOFFSETFROM:+0100
TZOFFSETTO:+0200
TZNAME:CEST
DTSTART:20220327T010000
END:DAYLIGHT
BEGIN:STANDARD
TZOFFSETFROM:+0200
TZOFFSETTO:+0100
TZNAME:CET
DTSTART:20221030T010000
END:STANDARD
BEGIN:DAYLIGHT
TZOFFSETFROM:+0100
TZOFFSETTO:+0200
TZNAME:CEST
DTSTART:20230326T010000
END:DAYLIGHT
BEGIN:STANDARD
TZOFFSETFROM:+0200
TZOFFSETTO:+0100
TZNAME:CET
DTSTART:20231029T010000
END:STANDARD
BEGIN:DAYLIGHT
TZOFFSETFROM:+0100
TZOFFSETTO:+0200
TZNAME:CEST
DTSTART:20240331T010000
END:DAYLIGHT
BEGIN:STANDARD
TZOFFSETFROM:+0200
TZOFFSETTO:+0100
TZNAME:CET
DTSTART:20241027T010000
END:STANDARD
BEGIN:DAYLIGHT
TZOFFSETFROM:+0100
TZOFFSETTO:+0200
TZNAME:CEST
DTSTART:20250330T010000
END:DAYLIGHT
BEGIN:STANDARD
TZOFFSETFROM:+0200
TZOFFSETTO:+0100
TZNAME:CET
DTSTART:20251026T010000
END:STANDARD
BEGIN:DAYLIGHT
TZOFFSETFROM:+0100
TZOFFSETTO:+0200
TZNAME:CEST
DTSTART:20260329T010000
END:DAYLIGHT
BEGIN:STANDARD
TZOFFSETFROM:+0200
TZOFFSETTO:+0100
TZNAME:CET
DTSTART:20261025T010000
END:STANDARD
END:VTIMEZONE
BEGIN:VEVENT
DTSTART;TZID=Europe/Amsterdam:20250505T171500
DTEND;TZID=Europe/Amsterdam:20250505T203000
DTSTAMP:20260425T134256
CREATED:20250325T142354Z
LAST-MODIFIED:20250401T093825Z
UID:2234-1746465300-1746477000@www.juffrjannie.nl
SUMMARY:Bevrijdingsfestival 2025
DESCRIPTION:Nu ook naar Juffr. Jannie op bevrijdingsdag!  \nVoor het eerst in 30 jaar vieren we de vrijheid samen met jullie\, ons eigen Zwolse publiek. Vrijheid vieren we het liefste samen dus hopelijk zien we jullie op 5 mei 2025 bij de Belgische Keizer! \nZie ook: https://bevrijdingsfestivaloverijssel.nl/ \n  \nScreenshot
URL:https://www.juffrjannie.nl/event/bevrijdingsfestival-2025/
LOCATION:Podium bij Restaurant Café De Belgische Keizer\, Melkmarkt 58\, Zwolle\, Overijssel\, 8011 ME\, Nederland
CATEGORIES:Openbaar optreden
ATTACH;FMTTYPE=image/jpeg:https://www.juffrjannie.nl/wp-content/uploads/2022/12/Koningsdag-Belgische-Keizer-169-2.jpg
END:VEVENT
BEGIN:VEVENT
DTSTART;TZID=Europe/Amsterdam:20250426T193000
DTEND;TZID=Europe/Amsterdam:20250426T233000
DTSTAMP:20260425T134256
CREATED:20250325T125451Z
LAST-MODIFIED:20250325T141631Z
UID:2223-1745695800-1745710200@www.juffrjannie.nl
SUMMARY:Koningsdag 2025
DESCRIPTION:Koningsdag bij de Belg! Die is natuurlijk niet compleet zonder de traditiegetrouwe afsluiting met een koninklijk optreden van Juffr. Jannie op het podium voor de Belgische Keizer. Gratis uiteraard. En nu met z’n allen duimen voor mooi weer! \nLet op! Koningsdag 2025 valt niet op 27 april maar is dit jaar dus op zaterdag 26 april! \nOpletten geblazen wanneer je standaard op 27 april een groot kruis in je agenda zet en Koningsdag noteert. Ongeveer eens in de zes jaar valt Koningsdag op een zondag. Een zogenoemde ‘verkeerde dag’ en dit jaar valt 27 april 2025 op zo’n zondag.  \n \nZie ook: https://www.visitzwolle.com/verhalen/koningsdag-zwolle/
URL:https://www.juffrjannie.nl/event/koningsdag-2025/
LOCATION:Podium bij Restaurant Café De Belgische Keizer\, Melkmarkt 58\, Zwolle\, Overijssel\, 8011 ME\, Nederland
CATEGORIES:Openbaar optreden
ATTACH;FMTTYPE=image/jpeg:https://www.juffrjannie.nl/wp-content/uploads/2025/03/IMG_8706-scaled.jpg
END:VEVENT
BEGIN:VEVENT
DTSTART;TZID=Europe/Amsterdam:20240823T230000
DTEND;TZID=Europe/Amsterdam:20240824T013000
DTSTAMP:20260425T134256
CREATED:20240614T134128Z
LAST-MODIFIED:20240614T134128Z
UID:2213-1724454000-1724463000@www.juffrjannie.nl
SUMMARY:
DESCRIPTION:Het Straatfestival is hèt zomerfeest van de stad\, en trekt bezoekers uit de verre regio\, en uit Zwolle zelf\, naar het centrum. Cafés en restaurants organiseren eendrachtig een gezellig muziekpodium in hun straat of op hun plein. Samen met tienduizenden andere bezoekers kun je dansen en sjansen\, swingen en zingen. Zo’n 25 muziekpodia\, groot en klein\, worden gevuld met bands en dj’s in elke denkbare muziekstijl. Van Nederlandstalig tot rock\, van pop tot blues. Pick your choose! \nMaar kom vooral ook bij ons langs! We staan zoals vanouds bij onze favoriete kroeg voor de deur: De Belgische Keizer. Tot dan!
URL:https://www.juffrjannie.nl/event/2213/
LOCATION:Podium bij Restaurant Café De Belgische Keizer\, Melkmarkt 58\, Zwolle\, Overijssel\, 8011 ME\, Nederland
CATEGORIES:Openbaar optreden
ATTACH;FMTTYPE=image/jpeg:https://www.juffrjannie.nl/wp-content/uploads/2024/05/JJ-Koningsdag-2024_16-9.jpg
END:VEVENT
BEGIN:VEVENT
DTSTART;TZID=Europe/Amsterdam:20240608T230000
DTEND;TZID=Europe/Amsterdam:20240609T020000
DTSTAMP:20260425T134256
CREATED:20240531T060551Z
LAST-MODIFIED:20240531T060551Z
UID:2206-1717887600-1717898400@www.juffrjannie.nl
SUMMARY:Halve Marathon Zwolle 2024
DESCRIPTION:Op zaterdagavond 8 juni 2024 is het weer zover! Dan wordt het gezelligste hardloopfestival van Nederland gelopen. Samen met maximaal 10.000 atleten loop je in het avondzonnetje door de historische binnenstad van Zwolle. Van scholier tot wereldtopper\, van recreant tot doorgewinterde hardloper\, in Zwolle is iedereen van de partij! Ook Juffr. Jannie natuurlijk\, want wij sluiten de dag weer af met een spetterend optreden bij het leukste café van Zwolle: De Belgische Keizer.
URL:https://www.juffrjannie.nl/event/halve-marathon-zwolle-2024/
LOCATION:Podium bij Restaurant Café De Belgische Keizer\, Melkmarkt 58\, Zwolle\, Overijssel\, 8011 ME\, Nederland
CATEGORIES:Openbaar optreden
ATTACH;FMTTYPE=image/jpeg:https://www.juffrjannie.nl/wp-content/uploads/2024/05/JJ-Koningsdag-2024_16-9.jpg
END:VEVENT
BEGIN:VEVENT
DTSTART;TZID=Europe/Amsterdam:20230825T210000
DTEND;TZID=Europe/Amsterdam:20230825T230000
DTSTAMP:20260425T134256
CREATED:20230521T073654Z
LAST-MODIFIED:20230521T073654Z
UID:2191-1692997200-1693004400@www.juffrjannie.nl
SUMMARY:Straatfestival Zwolle
DESCRIPTION:De grootste reünie van Zwolle. Ruim 25 locaties vol bands en dj’s in elke denkbare muziekstijl. Van Nederlandstalig tot rock\, van pop tot blues. De perfecte plek om elkaar weer te ontmoeten na de zomervakantie. Lekker praten op de straten en deinen op de pleinen. \nBen jij erbij? Juffr. Jannie in ieder geval wel! Op het podium bij onze favoriete kroeg in Zwolle: De Belgische Keizer. Zijn benieuwd naar jullie vakantieverhalen. Tot dan!
URL:https://www.juffrjannie.nl/event/straatfestival-zwolle/
LOCATION:Podium bij Restaurant Café De Belgische Keizer\, Melkmarkt 58\, Zwolle\, Overijssel\, 8011 ME\, Nederland
CATEGORIES:Openbaar optreden
ATTACH;FMTTYPE=image/jpeg:https://www.juffrjannie.nl/wp-content/uploads/2022/12/Koningsdag-Belgische-Keizer-169-2.jpg
END:VEVENT
BEGIN:VEVENT
DTSTART;TZID=Europe/Amsterdam:20230427T230000
DTEND;TZID=Europe/Amsterdam:20230428T010000
DTSTAMP:20260425T134256
CREATED:20221130T124645Z
LAST-MODIFIED:20221201T212505Z
UID:1991-1682636400-1682643600@www.juffrjannie.nl
SUMMARY:Koningsdag
DESCRIPTION:Koningsdag bij de Belg! Al jaren sluit Juffr. Jannie traditiegetrouw Koningsdag af met een knallend optreden op het podium voor de Belgische Keizer. Gratis uiteraard. En nu met z’n allen duimen voor mooi weer!
URL:https://www.juffrjannie.nl/event/koningsdag/
LOCATION:Podium bij Restaurant Café De Belgische Keizer\, Melkmarkt 58\, Zwolle\, Overijssel\, 8011 ME\, Nederland
ATTACH;FMTTYPE=image/jpeg:https://www.juffrjannie.nl/wp-content/uploads/2022/12/Koningsdag-Belgische-Keizer-169-2.jpg
END:VEVENT
END:VCALENDAR