BEGIN:VCALENDAR
VERSION:2.0
PRODID:-//Juffr. Jannie - ECPv6.15.20//NONSGML v1.0//EN
CALSCALE:GREGORIAN
METHOD:PUBLISH
X-ORIGINAL-URL:https://www.juffrjannie.nl
X-WR-CALDESC:Evenementen voor Juffr. Jannie
REFRESH-INTERVAL;VALUE=DURATION:PT1H
X-Robots-Tag:noindex
X-PUBLISHED-TTL:PT1H
BEGIN:VTIMEZONE
TZID:Europe/Amsterdam
BEGIN:DAYLIGHT
TZOFFSETFROM:+0100
TZOFFSETTO:+0200
TZNAME:CEST
DTSTART:20240331T010000
END:DAYLIGHT
BEGIN:STANDARD
TZOFFSETFROM:+0200
TZOFFSETTO:+0100
TZNAME:CET
DTSTART:20241027T010000
END:STANDARD
BEGIN:DAYLIGHT
TZOFFSETFROM:+0100
TZOFFSETTO:+0200
TZNAME:CEST
DTSTART:20250330T010000
END:DAYLIGHT
BEGIN:STANDARD
TZOFFSETFROM:+0200
TZOFFSETTO:+0100
TZNAME:CET
DTSTART:20251026T010000
END:STANDARD
BEGIN:DAYLIGHT
TZOFFSETFROM:+0100
TZOFFSETTO:+0200
TZNAME:CEST
DTSTART:20260329T010000
END:DAYLIGHT
BEGIN:STANDARD
TZOFFSETFROM:+0200
TZOFFSETTO:+0100
TZNAME:CET
DTSTART:20261025T010000
END:STANDARD
BEGIN:DAYLIGHT
TZOFFSETFROM:+0100
TZOFFSETTO:+0200
TZNAME:CEST
DTSTART:20270328T010000
END:DAYLIGHT
BEGIN:STANDARD
TZOFFSETFROM:+0200
TZOFFSETTO:+0100
TZNAME:CET
DTSTART:20271031T010000
END:STANDARD
END:VTIMEZONE
BEGIN:VEVENT
DTSTART;TZID=Europe/Amsterdam:20250505T171500
DTEND;TZID=Europe/Amsterdam:20250505T203000
DTSTAMP:20260425T183757
CREATED:20250325T142354Z
LAST-MODIFIED:20250401T093825Z
UID:2234-1746465300-1746477000@www.juffrjannie.nl
SUMMARY:Bevrijdingsfestival 2025
DESCRIPTION:Nu ook naar Juffr. Jannie op bevrijdingsdag!  \nVoor het eerst in 30 jaar vieren we de vrijheid samen met jullie\, ons eigen Zwolse publiek. Vrijheid vieren we het liefste samen dus hopelijk zien we jullie op 5 mei 2025 bij de Belgische Keizer! \nZie ook: https://bevrijdingsfestivaloverijssel.nl/ \n  \nScreenshot
URL:https://www.juffrjannie.nl/event/bevrijdingsfestival-2025/
LOCATION:Podium bij Restaurant Café De Belgische Keizer\, Melkmarkt 58\, Zwolle\, Overijssel\, 8011 ME\, Nederland
CATEGORIES:Openbaar optreden
ATTACH;FMTTYPE=image/jpeg:https://www.juffrjannie.nl/wp-content/uploads/2022/12/Koningsdag-Belgische-Keizer-169-2.jpg
END:VEVENT
BEGIN:VEVENT
DTSTART;TZID=Europe/Amsterdam:20260613T201500
DTEND;TZID=Europe/Amsterdam:20260613T234500
DTSTAMP:20260425T183757
CREATED:20260324T132106Z
LAST-MODIFIED:20260324T132106Z
UID:2252-1781381700-1781394300@www.juffrjannie.nl
SUMMARY:Halve Marathon Zwolle 2026
DESCRIPTION:Op zaterdag 13 juni 2026 is het weer zover! Dan wordt het gezelligste hardloopfestival van Nederland gelopen. Samen met maximaal 10.000 atleten loop je in het avondzonnetje door de historische binnenstad van Zwolle. Van scholier tot wereldtopper\, van recreant tot doorgewinterde hardloper\, in Zwolle is iedereen van de partij! Ook Juffr. Jannie natuurlijk\, want wij sluiten de dag weer af met een spetterend optreden bij het leukste café van Zwolle: De Belgische Keizer.
URL:https://www.juffrjannie.nl/event/halve-marathon-zwolle-2026/
LOCATION:Podium bij Restaurant Café De Belgische Keizer\, Melkmarkt 58\, Zwolle\, Overijssel\, 8011 ME\, Nederland
CATEGORIES:Openbaar optreden
ATTACH;FMTTYPE=image/jpeg:https://www.juffrjannie.nl/wp-content/uploads/2026/03/Foto-halve-marathon.jpg
END:VEVENT
END:VCALENDAR